BEGIN:VCALENDAR
VERSION:2.0
PRODID:http://www.katholisch-sb.de
BEGIN:VEVENT
UID:f1c2693c-3f8b-11f1-a3e9-0242ac11002b-1785571200000-de
DTSTAMP:20260424T031611Z
DTSTART:20260801T080000Z
DTEND:20260801T090000Z
SUMMARY;LANGUAGE=de:Aussetzung und Rosenkranz, anschl. Hl. Messe zum Herz-Mariä-Sühnesamstag
END:VEVENT
END:VCALENDAR
